Workbook

Sheet Mes congés
A1: Suivi des congés payés
A2: 2,5 jours ouvrables par mois de travail, du 1er juin au 31 mai. Les colonnes grisées se calculent seules.
A4: Début de la période | B4: 46174 | C4: Calcul au | D4: =TODAY()
A5: Nom | B5: Date d'arrivée | C5: Solde au début de la période | D5: Mois travaillés | E5: Jours acquis | F5: Jours pris | G5: Solde
D6: =IF(A6="","",IF(MAX(B6,$B$4)>$D$4,0,MIN(12,DATEDIF(MAX(B6,$B$4),$D$4,"m")))) | E6: =IF(A6="","",ROUNDUP(D6*2.5,0)) | F6: =IF(A6="","",SUMIFS(Absences!E:E,Absences!A:A,A6,Absences!D:D,"Congés payés")) | G6: =IF(A6="","",C6+E6-F6)
D7: =IF(A7="","",IF(MAX(B7,$B$4)>$D$4,0,MIN(12,DATEDIF(MAX(B7,$B$4),$D$4,"m")))) | E7: =IF(A7="","",ROUNDUP(D7*2.5,0)) | F7: =IF(A7="","",SUMIFS(Absences!E:E,Absences!A:A,A7,Absences!D:D,"Congés payés")) | G7: =IF(A7="","",C7+E7-F7)
D8: =IF(A8="","",IF(MAX(B8,$B$4)>$D$4,0,MIN(12,DATEDIF(MAX(B8,$B$4),$D$4,"m")))) | E8: =IF(A8="","",ROUNDUP(D8*2.5,0)) | F8: =IF(A8="","",SUMIFS(Absences!E:E,Absences!A:A,A8,Absences!D:D,"Congés payés")) | G8: =IF(A8="","",C8+E8-F8)
D9: =IF(A9="","",IF(MAX(B9,$B$4)>$D$4,0,MIN(12,DATEDIF(MAX(B9,$B$4),$D$4,"m")))) | E9: =IF(A9="","",ROUNDUP(D9*2.5,0)) | F9: =IF(A9="","",SUMIFS(Absences!E:E,Absences!A:A,A9,Absences!D:D,"Congés payés")) | G9: =IF(A9="","",C9+E9-F9)
D10: =IF(A10="","",IF(MAX(B10,$B$4)>$D$4,0,MIN(12,DATEDIF(MAX(B10,$B$4),$D$4,"m")))) | E10: =IF(A10="","",ROUNDUP(D10*2.5,0)) | F10: =IF(A10="","",SUMIFS(Absences!E:E,Absences!A:A,A10,Absences!D:D,"Congés payés")) | G10: =IF(A10="","",C10+E10-F10)
D11: =IF(A11="","",IF(MAX(B11,$B$4)>$D$4,0,MIN(12,DATEDIF(MAX(B11,$B$4),$D$4,"m")))) | E11: =IF(A11="","",ROUNDUP(D11*2.5,0)) | F11: =IF(A11="","",SUMIFS(Absences!E:E,Absences!A:A,A11,Absences!D:D,"Congés payés")) | G11: =IF(A11="","",C11+E11-F11)
D12: =IF(A12="","",IF(MAX(B12,$B$4)>$D$4,0,MIN(12,DATEDIF(MAX(B12,$B$4),$D$4,"m")))) | E12: =IF(A12="","",ROUNDUP(D12*2.5,0)) | F12: =IF(A12="","",SUMIFS(Absences!E:E,Absences!A:A,A12,Absences!D:D,"Congés payés")) | G12: =IF(A12="","",C12+E12-F12)
D13: =IF(A13="","",IF(MAX(B13,$B$4)>$D$4,0,MIN(12,DATEDIF(MAX(B13,$B$4),$D$4,"m")))) | E13: =IF(A13="","",ROUNDUP(D13*2.5,0)) | F13: =IF(A13="","",SUMIFS(Absences!E:E,Absences!A:A,A13,Absences!D:D,"Congés payés")) | G13: =IF(A13="","",C13+E13-F13)
D14: =IF(A14="","",IF(MAX(B14,$B$4)>$D$4,0,MIN(12,DATEDIF(MAX(B14,$B$4),$D$4,"m")))) | E14: =IF(A14="","",ROUNDUP(D14*2.5,0)) | F14: =IF(A14="","",SUMIFS(Absences!E:E,Absences!A:A,A14,Absences!D:D,"Congés payés")) | G14: =IF(A14="","",C14+E14-F14)
D15: =IF(A15="","",IF(MAX(B15,$B$4)>$D$4,0,MIN(12,DATEDIF(MAX(B15,$B$4),$D$4,"m")))) | E15: =IF(A15="","",ROUNDUP(D15*2.5,0)) | F15: =IF(A15="","",SUMIFS(Absences!E:E,Absences!A:A,A15,Absences!D:D,"Congés payés")) | G15: =IF(A15="","",C15+E15-F15)
D16: =IF(A16="","",IF(MAX(B16,$B$4)>$D$4,0,MIN(12,DATEDIF(MAX(B16,$B$4),$D$4,"m")))) | E16: =IF(A16="","",ROUNDUP(D16*2.5,0)) | F16: =IF(A16="","",SUMIFS(Absences!E:E,Absences!A:A,A16,Absences!D:D,"Congés payés")) | G16: =IF(A16="","",C16+E16-F16)
D17: =IF(A17="","",IF(MAX(B17,$B$4)>$D$4,0,MIN(12,DATEDIF(MAX(B17,$B$4),$D$4,"m")))) | E17: =IF(A17="","",ROUNDUP(D17*2.5,0)) | F17: =IF(A17="","",SUMIFS(Absences!E:E,Absences!A:A,A17,Absences!D:D,"Congés payés")) | G17: =IF(A17="","",C17+E17-F17)
... D25: =IF(A25="","",IF(MAX(B25,$B$4)>$D$4,0,MIN(12,DATEDIF(MAX(B25,$B$4),$D$4,"m")))) | E25: =IF(A25="","",ROUNDUP(D25*2.5,0)) | F25: =IF(A25="","",SUMIFS(Absences!E:E,Absences!A:A,A25,Absences!D:D,"Congés payés")) | G25: =IF(A25="","",C25+E25-F25)

Sheet Absences
A1: Les absences
A2: Une ligne par absence ; seules les « Congés payés » se retirent du solde. Les jours se comptent sans le dimanche ni les fériés.
A5: Nom | B5: Du | C5: Au | D5: Type | E5: Jours ouvrables
E6: =IF(OR(B6="",C6=""),"",NETWORKDAYS.INTL(B6,C6,"0000001",'Jours fériés'!$A$5:$A$30))
E7: =IF(OR(B7="",C7=""),"",NETWORKDAYS.INTL(B7,C7,"0000001",'Jours fériés'!$A$5:$A$30))
E8: =IF(OR(B8="",C8=""),"",NETWORKDAYS.INTL(B8,C8,"0000001",'Jours fériés'!$A$5:$A$30))
E9: =IF(OR(B9="",C9=""),"",NETWORKDAYS.INTL(B9,C9,"0000001",'Jours fériés'!$A$5:$A$30))
E10: =IF(OR(B10="",C10=""),"",NETWORKDAYS.INTL(B10,C10,"0000001",'Jours fériés'!$A$5:$A$30))
E11: =IF(OR(B11="",C11=""),"",NETWORKDAYS.INTL(B11,C11,"0000001",'Jours fériés'!$A$5:$A$30))
E12: =IF(OR(B12="",C12=""),"",NETWORKDAYS.INTL(B12,C12,"0000001",'Jours fériés'!$A$5:$A$30))
E13: =IF(OR(B13="",C13=""),"",NETWORKDAYS.INTL(B13,C13,"0000001",'Jours fériés'!$A$5:$A$30))
E14: =IF(OR(B14="",C14=""),"",NETWORKDAYS.INTL(B14,C14,"0000001",'Jours fériés'!$A$5:$A$30))
E15: =IF(OR(B15="",C15=""),"",NETWORKDAYS.INTL(B15,C15,"0000001",'Jours fériés'!$A$5:$A$30))
E16: =IF(OR(B16="",C16=""),"",NETWORKDAYS.INTL(B16,C16,"0000001",'Jours fériés'!$A$5:$A$30))
E17: =IF(OR(B17="",C17=""),"",NETWORKDAYS.INTL(B17,C17,"0000001",'Jours fériés'!$A$5:$A$30))
... E25: =IF(OR(B25="",C25=""),"",NETWORKDAYS.INTL(B25,C25,"0000001",'Jours fériés'!$A$5:$A$30))

Sheet Exemple
A1: Exemple : une boutique de cinq personnes
A2: Calculé au 18 octobre 2026 : 4 mois travaillés depuis le 1er juin pour qui était déjà là.
A4: Début de la période | B4: 46174 | C4: Calcul au | D4: 46313
A5: Nom | B5: Date d'arrivée | C5: Solde au début de la période | D5: Mois travaillés | E5: Jours acquis | F5: Jours pris | G5: Solde
A6: Léa | B6: 44986 | C6: 4 | D6: =IF(A6="","",IF(MAX(B6,$B$4)>$D$4,0,MIN(12,DATEDIF(MAX(B6,$B$4),$D$4,"m")))) | E6: =IF(A6="","",ROUNDUP(D6*2.5,0)) | F6: =IF(A6="","",SUMIFS($E$30:$E$50,$A$30:$A$50,A6,$D$30:$D$50,"Congés payés")) | G6: =IF(A6="","",C6+E6-F6)
A7: Hugo | B7: 45537 | C7: 2.5 | D7: =IF(A7="","",IF(MAX(B7,$B$4)>$D$4,0,MIN(12,DATEDIF(MAX(B7,$B$4),$D$4,"m")))) | E7: =IF(A7="","",ROUNDUP(D7*2.5,0)) | F7: =IF(A7="","",SUMIFS($E$30:$E$50,$A$30:$A$50,A7,$D$30:$D$50,"Congés payés")) | G7: =IF(A7="","",C7+E7-F7)
A8: Chloé | B8: 46266 | C8: 0 | D8: =IF(A8="","",IF(MAX(B8,$B$4)>$D$4,0,MIN(12,DATEDIF(MAX(B8,$B$4),$D$4,"m")))) | E8: =IF(A8="","",ROUNDUP(D8*2.5,0)) | F8: =IF(A8="","",SUMIFS($E$30:$E$50,$A$30:$A$50,A8,$D$30:$D$50,"Congés payés")) | G8: =IF(A8="","",C8+E8-F8)
A9: Louis | B9: 44571 | C9: 6 | D9: =IF(A9="","",IF(MAX(B9,$B$4)>$D$4,0,MIN(12,DATEDIF(MAX(B9,$B$4),$D$4,"m")))) | E9: =IF(A9="","",ROUNDUP(D9*2.5,0)) | F9: =IF(A9="","",SUMIFS($E$30:$E$50,$A$30:$A$50,A9,$D$30:$D$50,"Congés payés")) | G9: =IF(A9="","",C9+E9-F9)
A10: Manon | B10: 45761 | C10: 1 | D10: =IF(A10="","",IF(MAX(B10,$B$4)>$D$4,0,MIN(12,DATEDIF(MAX(B10,$B$4),$D$4,"m")))) | E10: =IF(A10="","",ROUNDUP(D10*2.5,0)) | F10: =IF(A10="","",SUMIFS($E$30:$E$50,$A$30:$A$50,A10,$D$30:$D$50,"Congés payés")) | G10: =IF(A10="","",C10+E10-F10)
D11: =IF(A11="","",IF(MAX(B11,$B$4)>$D$4,0,MIN(12,DATEDIF(MAX(B11,$B$4),$D$4,"m")))) | E11: =IF(A11="","",ROUNDUP(D11*2.5,0)) | F11: =IF(A11="","",SUMIFS($E$30:$E$50,$A$30:$A$50,A11,$D$30:$D$50,"Congés payés")) | G11: =IF(A11="","",C11+E11-F11)
D12: =IF(A12="","",IF(MAX(B12,$B$4)>$D$4,0,MIN(12,DATEDIF(MAX(B12,$B$4),$D$4,"m")))) | E12: =IF(A12="","",ROUNDUP(D12*2.5,0)) | F12: =IF(A12="","",SUMIFS($E$30:$E$50,$A$30:$A$50,A12,$D$30:$D$50,"Congés payés")) | G12: =IF(A12="","",C12+E12-F12)
D13: =IF(A13="","",IF(MAX(B13,$B$4)>$D$4,0,MIN(12,DATEDIF(MAX(B13,$B$4),$D$4,"m")))) | E13: =IF(A13="","",ROUNDUP(D13*2.5,0)) | F13: =IF(A13="","",SUMIFS($E$30:$E$50,$A$30:$A$50,A13,$D$30:$D$50,"Congés payés")) | G13: =IF(A13="","",C13+E13-F13)
D14: =IF(A14="","",IF(MAX(B14,$B$4)>$D$4,0,MIN(12,DATEDIF(MAX(B14,$B$4),$D$4,"m")))) | E14: =IF(A14="","",ROUNDUP(D14*2.5,0)) | F14: =IF(A14="","",SUMIFS($E$30:$E$50,$A$30:$A$50,A14,$D$30:$D$50,"Congés payés")) | G14: =IF(A14="","",C14+E14-F14)
D15: =IF(A15="","",IF(MAX(B15,$B$4)>$D$4,0,MIN(12,DATEDIF(MAX(B15,$B$4),$D$4,"m")))) | E15: =IF(A15="","",ROUNDUP(D15*2.5,0)) | F15: =IF(A15="","",SUMIFS($E$30:$E$50,$A$30:$A$50,A15,$D$30:$D$50,"Congés payés")) | G15: =IF(A15="","",C15+E15-F15)
D16: =IF(A16="","",IF(MAX(B16,$B$4)>$D$4,0,MIN(12,DATEDIF(MAX(B16,$B$4),$D$4,"m")))) | E16: =IF(A16="","",ROUNDUP(D16*2.5,0)) | F16: =IF(A16="","",SUMIFS($E$30:$E$50,$A$30:$A$50,A16,$D$30:$D$50,"Congés payés")) | G16: =IF(A16="","",C16+E16-F16)
D17: =IF(A17="","",IF(MAX(B17,$B$4)>$D$4,0,MIN(12,DATEDIF(MAX(B17,$B$4),$D$4,"m")))) | E17: =IF(A17="","",ROUNDUP(D17*2.5,0)) | F17: =IF(A17="","",SUMIFS($E$30:$E$50,$A$30:$A$50,A17,$D$30:$D$50,"Congés payés")) | G17: =IF(A17="","",C17+E17-F17)
D18: =IF(A18="","",IF(MAX(B18,$B$4)>$D$4,0,MIN(12,DATEDIF(MAX(B18,$B$4),$D$4,"m")))) | E18: =IF(A18="","",ROUNDUP(D18*2.5,0)) | F18: =IF(A18="","",SUMIFS($E$30:$E$50,$A$30:$A$50,A18,$D$30:$D$50,"Congés payés")) | G18: =IF(A18="","",C18+E18-F18)
D19: =IF(A19="","",IF(MAX(B19,$B$4)>$D$4,0,MIN(12,DATEDIF(MAX(B19,$B$4),$D$4,"m")))) | E19: =IF(A19="","",ROUNDUP(D19*2.5,0)) | F19: =IF(A19="","",SUMIFS($E$30:$E$50,$A$30:$A$50,A19,$D$30:$D$50,"Congés payés")) | G19: =IF(A19="","",C19+E19-F19)
D20: =IF(A20="","",IF(MAX(B20,$B$4)>$D$4,0,MIN(12,DATEDIF(MAX(B20,$B$4),$D$4,"m")))) | E20: =IF(A20="","",ROUNDUP(D20*2.5,0)) | F20: =IF(A20="","",SUMIFS($E$30:$E$50,$A$30:$A$50,A20,$D$30:$D$50,"Congés payés")) | G20: =IF(A20="","",C20+E20-F20)
D21: =IF(A21="","",IF(MAX(B21,$B$4)>$D$4,0,MIN(12,DATEDIF(MAX(B21,$B$4),$D$4,"m")))) | E21: =IF(A21="","",ROUNDUP(D21*2.5,0)) | F21: =IF(A21="","",SUMIFS($E$30:$E$50,$A$30:$A$50,A21,$D$30:$D$50,"Congés payés")) | G21: =IF(A21="","",C21+E21-F21)
D22: =IF(A22="","",IF(MAX(B22,$B$4)>$D$4,0,MIN(12,DATEDIF(MAX(B22,$B$4),$D$4,"m")))) | E22: =IF(A22="","",ROUNDUP(D22*2.5,0)) | F22: =IF(A22="","",SUMIFS($E$30:$E$50,$A$30:$A$50,A22,$D$30:$D$50,"Congés payés")) | G22: =IF(A22="","",C22+E22-F22)
... D25: =IF(A25="","",IF(MAX(B25,$B$4)>$D$4,0,MIN(12,DATEDIF(MAX(B25,$B$4),$D$4,"m")))) | E25: =IF(A25="","",ROUNDUP(D25*2.5,0)) | F25: =IF(A25="","",SUMIFS($E$30:$E$50,$A$30:$A$50,A25,$D$30:$D$50,"Congés payés")) | G25: =IF(A25="","",C25+E25-F25)
A28: Les absences de l'exemple
A29: Nom | B29: Du | C29: Au | D29: Type | E29: Jours ouvrables
A30: Léa | B30: 46244 | C30: 46256 | D30: Congés payés | E30: =IF(OR(B30="",C30=""),"",NETWORKDAYS.INTL(B30,C30,"0000001",'Jours fériés'!$A$5:$A$30))
A31: Hugo | B31: 46223 | C31: 46228 | D31: Congés payés | E31: =IF(OR(B31="",C31=""),"",NETWORKDAYS.INTL(B31,C31,"0000001",'Jours fériés'!$A$5:$A$30))
A32: Louis | B32: 46251 | C32: 46263 | D32: Congés payés | E32: =IF(OR(B32="",C32=""),"",NETWORKDAYS.INTL(B32,C32,"0000001",'Jours fériés'!$A$5:$A$30))
A33: Manon | B33: 46300 | C33: 46301 | D33: Récupération | E33: =IF(OR(B33="",C33=""),"",NETWORKDAYS.INTL(B33,C33,"0000001",'Jours fériés'!$A$5:$A$30))
E34: =IF(OR(B34="",C34=""),"",NETWORKDAYS.INTL(B34,C34,"0000001",'Jours fériés'!$A$5:$A$30))
E35: =IF(OR(B35="",C35=""),"",NETWORKDAYS.INTL(B35,C35,"0000001",'Jours fériés'!$A$5:$A$30))
E36: =IF(OR(B36="",C36=""),"",NETWORKDAYS.INTL(B36,C36,"0000001",'Jours fériés'!$A$5:$A$30))
E37: =IF(OR(B37="",C37=""),"",NETWORKDAYS.INTL(B37,C37,"0000001",'Jours fériés'!$A$5:$A$30))
E38: =IF(OR(B38="",C38=""),"",NETWORKDAYS.INTL(B38,C38,"0000001",'Jours fériés'!$A$5:$A$30))
E39: =IF(OR(B39="",C39=""),"",NETWORKDAYS.INTL(B39,C39,"0000001",'Jours fériés'!$A$5:$A$30))
E40: =IF(OR(B40="",C40=""),"",NETWORKDAYS.INTL(B40,C40,"0000001",'Jours fériés'!$A$5:$A$30))
E41: =IF(OR(B41="",C41=""),"",NETWORKDAYS.INTL(B41,C41,"0000001",'Jours fériés'!$A$5:$A$30))
E42: =IF(OR(B42="",C42=""),"",NETWORKDAYS.INTL(B42,C42,"0000001",'Jours fériés'!$A$5:$A$30))
E43: =IF(OR(B43="",C43=""),"",NETWORKDAYS.INTL(B43,C43,"0000001",'Jours fériés'!$A$5:$A$30))
E44: =IF(OR(B44="",C44=""),"",NETWORKDAYS.INTL(B44,C44,"0000001",'Jours fériés'!$A$5:$A$30))
E45: =IF(OR(B45="",C45=""),"",NETWORKDAYS.INTL(B45,C45,"0000001",'Jours fériés'!$A$5:$A$30))
... E49: =IF(OR(B49="",C49=""),"",NETWORKDAYS.INTL(B49,C49,"0000001",'Jours fériés'!$A$5:$A$30))

Sheet Jours fériés
A1: Les jours fériés de la période
A2: Retirez ceux que votre magasin ouvre : un férié travaillé se décompte comme un autre jour. Le 1er mai reste chômé.
A4: Date | B4: Férié
A5: 46217 | B5: Fête nationale
A6: 46249 | B6: Assomption
A7: 46327 | B7: Toussaint
A8: 46337 | B8: Armistice
A9: 46381 | B9: Noël
A10: 46388 | B10: Jour de l'an
A11: 46475 | B11: Lundi de Pâques
A12: 46508 | B12: 1er mai
A13: 46513 | B13: Ascension
A14: 46515 | B14: Victoire 1945
A15: 46524 | B15: Lundi de Pentecôte

Sheet Mode d'emploi
A1: Suivi des congés payés : le mode d'emploi
A2: 1. Dans « Mes congés », une ligne par personne : son nom, sa date d'arrivée et le solde qu'il lui restait au début de la période (le 1er juin).
A3: 2. Les mois travaillés, les jours acquis (2,5 par mois, arrondis au jour supérieur) et le solde se calculent seuls, à la date du jour.
A4: 3. Dans « Absences », une ligne par absence : le nom exactement comme dans « Mes congés », les dates et le type. Seules les « Congés payés » se retirent du solde.
A5: 4. Les jours se comptent en jours ouvrables : du lundi au samedi, sans les fériés de l'onglet « Jours fériés ». Retirez-en ceux que votre magasin ouvre.
A6: 5. Le 1er juin suivant, reportez le solde de chacun dans « Solde au début de la période », changez la date de début, et videz « Absences ».
A7: Ce que ce fichier ne fait pas : décompter selon les jours de travail réels de chacun, les absences qui suspendent l'acquisition, les règles de votre convention.
A8: Smarly le fait pour vous : chacun demande depuis son téléphone, vous validez en voyant qui est absent, et le solde se crédite seul le 1er du mois. smarly.app/gestion-conges-magasin
